BEGIN:VCALENDAR
VERSION:2.0
PRODID:-//Things To Do In Austin//Events//EN
BEGIN:VEVENT
UID:97bb91c5-9ce1-404d-8713-729df53affa3@thingstodoinaustin.com
DTSTAMP:20260420T050041Z
DTSTART:20260421T050000Z
DTEND:20260422T045959Z
SUMMARY:VNV Nation
DESCRIPTION:Resound & Heard Presents: VNV Nation at Empire Garage on 4/21 Doors: 8:00PM | Show: 9:00PM All Ages https://vor.us/b381a
LOCATION:Austin\, TX
END:VEVENT
END:VCALENDAR