BEGIN:VCALENDAR
VERSION:2.0
PRODID:-//Things To Do In Austin//Events//EN
BEGIN:VEVENT
UID:27c760a5-65d5-4bba-9a68-11f2049faea4@thingstodoinaustin.com
DTSTAMP:20260420T144206Z
DTSTART:20260421T050000Z
DTEND:20260422T045959Z
SUMMARY:Violet Crown Trail Community Walk
DESCRIPTION:Join Great Springs Project and Hill Country Conservancy on a 2-mile walk along the Violet Crown Trail in Austin\, Texas. We will meet at the new Mile Zero trailhead (just west of Zilker Hillside Theater\, 2206 William Barton Dr) at 8am\, and from there walk 1 mile to the Spyglass Trailhead\, and then turn back around. Please come prepared with water in a reusable water bottle and athletic clothes. Families and kids welcome! Great Springs Project is a Texan by Nature conservation partner.
LOCATION:2206 William Barton Dr\, Austin\, TX
END:VEVENT
END:VCALENDAR