BEGIN:VCALENDAR
VERSION:2.0
PRODID:-//Things To Do In Austin//Events//EN
BEGIN:VEVENT
UID:d7612bb2-4b9d-42d9-b6a9-f2b0bbc9ea5e@thingstodoinaustin.com
DTSTAMP:20260425T161843Z
DTSTART:20260427T050000Z
DTEND:20260428T045959Z
SUMMARY:TPA Trivia Night - Live
DESCRIPTION:Join us for our LIVE TPA Trivia Night. Put your arts & entertainment knowledge to the test! Teams of up to 6 can compete in a multi-round Pub Quiz style trivia night\, and the top three teams will get prizes\, including tickets to upcoming TPA performances\, along with great prizes from the Alamo Drafthouse. We will also have bonus prizes\, including tickets to other Texas Performing Arts shows. Trivia will take place in Barrel O'Fun at the Alamo Drafthouse Mueller\, 1911 Aldrich St. Suite 120\, Austin\, TX 78723 Trivia will start at 7pm and last for approximately 2 hours. Free to enter! There’s parking in the garage behind the Alamo Mueller along McBee street. Barrel O’ Fun will validate parking for up to 4 hours. Simply bring your parking ticket with you to the bar.
LOCATION:2350 Robert Dedman Dr.\, Austin\, TX
END:VEVENT
END:VCALENDAR