BEGIN:VCALENDAR
VERSION:2.0
PRODID:-//Things To Do In Austin//Events//EN
BEGIN:VEVENT
UID:5b680a49-bad3-41b7-9a0c-d1dce4297ee9@thingstodoinaustin.com
DTSTAMP:20260420T064801Z
DTSTART:20260423T050000Z
DTEND:20260424T045959Z
SUMMARY:Tourist
DESCRIPTION:Resound Presents: Tourist at Mohawk on 4/23 Doors/Show: 7pm/8pm All Ages
LOCATION:Austin\, TX
END:VEVENT
END:VCALENDAR