BEGIN:VCALENDAR
VERSION:2.0
PRODID:-//Things To Do In Austin//Events//EN
BEGIN:VEVENT
UID:d061f7f2-c7bf-4081-8bd4-0ae68b176943@thingstodoinaustin.com
DTSTAMP:20260421T121602Z
DTSTART:20260423T050000Z
DTEND:20260424T045959Z
SUMMARY:The Crane Wives w/ Lilith Max
DESCRIPTION:Resound Presents: The Crane Wives w/ Lilith Max at Radio/East on 4/23 Doors: 7:00PM | Show: 8:00PM All Ages
LOCATION:Austin\, TX
END:VEVENT
END:VCALENDAR