BEGIN:VCALENDAR
VERSION:2.0
PRODID:-//Things To Do In Austin//Events//EN
BEGIN:VEVENT
UID:f8cf8433-c05a-4522-b8be-a26f74592328@thingstodoinaustin.com
DTSTAMP:20260423T141925Z
DTSTART:20260424T050000Z
DTEND:20260425T045959Z
SUMMARY:Still Damn Good: Torchy’s 20th Anniversary w/ Still Austin Whiskey
DESCRIPTION:Torchy’s Tacos is raising a glass to its Austin roots with fellow hometown favorite Still Austin. The two Austin originals have come together to create the Hill Country Sour\, a new cocktail available at Torchy’s restaurants across Austin starting in April for a limited time. To celebrate the cocktail launch and honor 20 Damn Good years of Torchy's in the city where it all began\, a one-day-only event will take place at the Still Austin distillery. Guests will get a first taste of the new cocktail—an exclusive frozen version available for purchase at the event—plus free tacos and giveaways. (free tacos and limited merch available while supplies last)
LOCATION:440 St. Elmo Rd.\, Austin\, TX
END:VEVENT
END:VCALENDAR