BEGIN:VCALENDAR
VERSION:2.0
PRODID:-//Things To Do In Austin//Events//EN
BEGIN:VEVENT
UID:37c63c9d-a2b6-4a59-8120-c6b096c9941e@thingstodoinaustin.com
DTSTAMP:20260425T143542Z
DTSTART:20260426T050000Z
DTEND:20260427T045959Z
SUMMARY:Snail Mail Live In Concert
DESCRIPTION:Snail Mail is performing in Austin\, TX on Sunday\, April 26\, 2026\, as part of her upcoming tour. Support Act: The concert features special guest Sharp Pins.
LOCATION:Austin\, TX
END:VEVENT
END:VCALENDAR