BEGIN:VCALENDAR
VERSION:2.0
PRODID:-//Things To Do In Austin//Events//EN
BEGIN:VEVENT
UID:679a20b7-a85f-4021-896d-561b24a03c6a@thingstodoinaustin.com
DTSTAMP:20260425T163812Z
DTSTART:20260428T050000Z
DTEND:20260429T045959Z
SUMMARY:Sincerely\, Sondheim
DESCRIPTION:For one night only at Zach\, Broadway star Nicholas Rodriguez takes you inside the world of Stephen Sondheim. Told through Sondheim's own handwritten letters to legends like Oscar Hammerstein II\, Jonathan Larson\, and Lin-Manuel Miranda\, this concert celebrates an extraordinary life and the friendships that shaped it. Featuring songs from Company\, Sunday in the Park with George\, Into the Woods\, and more\, don't miss this unforgettable evening: Sondheim in his own words.
LOCATION:Austin\, TX
END:VEVENT
END:VCALENDAR