BEGIN:VCALENDAR
VERSION:2.0
PRODID:-//Things To Do In Austin//Events//EN
BEGIN:VEVENT
UID:66f24493-b9d8-4a7f-9b5e-498ada156273@thingstodoinaustin.com
DTSTAMP:20260420T112946Z
DTSTART:20260424T050000Z
DTEND:20260425T045959Z
SUMMARY:Sara Evans at Haute Spot
DESCRIPTION:We’re thrilled to welcome Sara Evans at Haute Spot in Cedar Park\, Tx on Friday April 24th\, 2026! EVENT DETAILS DATE: Show Date: Friday\, April 24th\, 2026 TIME: Doors at 6:00 PM | Happy Hour until 7:00 PM SUPPORT: TBA LOCATION: Haute Spot - 1501 E New Hope Dr. Cedar Park\, Tx 78641 *Times Subject to Change About Haute Spot: Haute Spot is Cedar Park's premier outdoor music venue - along with heaters\, food\, drinks and live music under the stars! Limited Tables and Seats available - so act fast! Tables come with food and drink delivery service as well through our QR codes. For full details on the show\, visit: https://hautespot.live/calendar/sara-evans-2026
LOCATION:Cedar Park\, TX
END:VEVENT
END:VCALENDAR