BEGIN:VCALENDAR
VERSION:2.0
PRODID:-//Things To Do In Austin//Events//EN
BEGIN:VEVENT
UID:3997123d-8109-4538-9846-04d02cf602e4@thingstodoinaustin.com
DTSTAMP:20260424T160903Z
DTSTART:20260425T050000Z
DTEND:20260426T045959Z
SUMMARY:Reconnect to Repurpose
DESCRIPTION:Do Tell Presents: Reconnect to Repurpose. A community exhibition opening Saturday\, April 25th\, from 6 PM&#8211\;9 PM at Arthub ATX. This exhibition is an invitation to slow down and reflect. At its core\, Reconnect to Repurpose explores the idea that purpose isn’t something we always have\; it’s something we rediscover\, rebuild\, and redefine over time. And often\, that journey begins with connection. Come join us at Arthub ATX\, home to over 100 artist studios and micro-businesses. It’s a true hidden gem\, and a space you won’t want to miss. We’re still accepting submissions! If you have work that connects to this theme\, we’d love to see it: dotellworld@gmail.com
LOCATION:Austin\, TX
END:VEVENT
END:VCALENDAR