BEGIN:VCALENDAR
VERSION:2.0
PRODID:-//Things To Do In Austin//Events//EN
BEGIN:VEVENT
UID:88189670-fdf1-4a40-bb4b-20617aba6851@thingstodoinaustin.com
DTSTAMP:20260420T144949Z
DTSTART:20260423T050000Z
DTEND:20260424T045959Z
SUMMARY:Puppet Ruckus
DESCRIPTION:Mr. Bonetangles is a cute and disturbing punk rock puppet spectacle of marionettes\, broken toys and home-recorded music that has entertained audiences from the street to the screen - ranging from "busking" across the country to Jon Favreau's 2014 film 'Chef' Nocturnal Creatures Troupe presents: The Unsolved Mystery of Ms. Patsy Climb A multimedia musical puppet production exploring the lives of a humanoid bat\, mysterious spider and cranky mouse. Provocative parody of everyday experiences of street performers in the French Quarter of New Orleans\, the characters they encounter\, as they strive to strike a record deal and make it big. Will they eat free Hotdogs for life? Will Detective Bark bust the case wide open and earn the title “Good Boy?” Tune in and find out! https://www.instagram.com/nocturnalcreaturestroupe
LOCATION:2307 Manor Rd.\, Austin\, TX
END:VEVENT
END:VCALENDAR