BEGIN:VCALENDAR
VERSION:2.0
PRODID:-//Things To Do In Austin//Events//EN
BEGIN:VEVENT
UID:8d78bc8b-9fa2-4aa2-8c39-f0109d9d559e@thingstodoinaustin.com
DTSTAMP:20260425T143706Z
DTSTART:20260426T050000Z
DTEND:20260427T045959Z
SUMMARY:Nimesh Patel - With All Due Disrespect Tour
DESCRIPTION:Nimesh Patel is a comedian and Emmy-nominated writer who has risen the ranks to some of comedy’s biggest stages due to his unassailable joke writing\, prolific output\, and innovative marketing. Named as one of Variety’s prestigious “10 Comics To Watch” of 2023 and hailed by Vulture as “a Comedian You Should and Will Know\,” Nimesh has charted a path from sold out comedy clubs to major theaters.
LOCATION:Austin\, TX
END:VEVENT
END:VCALENDAR