BEGIN:VCALENDAR
VERSION:2.0
PRODID:-//Things To Do In Austin//Events//EN
BEGIN:VEVENT
UID:1a3169c0-e9ef-4ff5-9315-b3e73c79f73a@thingstodoinaustin.com
DTSTAMP:20260421T134143Z
DTSTART:20260423T050000Z
DTEND:20260424T045959Z
SUMMARY:Lee Cabrera | Chernoble | LO’A | Redefining Music | Regal Rooms
DESCRIPTION:Doors at 7:00. Come see Milo Bard and watch his live interview at 8:00 with Amplify EDM. Show starts 9:00 DJs Chernoble\, LOA\, and headliner Lee Cabrera
LOCATION:1204 Regal Row\, Austin\, TX
END:VEVENT
END:VCALENDAR