BEGIN:VCALENDAR
VERSION:2.0
PRODID:-//Things To Do In Austin//Events//EN
BEGIN:VEVENT
UID:17de19c0-1ea6-4ecf-b57e-18025bd84eca@thingstodoinaustin.com
DTSTAMP:20260425T161351Z
DTSTART:20260426T050000Z
DTEND:20260427T045959Z
SUMMARY:Laboratorio: Edición Colombia
DESCRIPTION:Laboratorio returns to Austin’s historic State Theatre with Edición Colombia\, an immersive exploration of Colombian music and culture featuring members of Austin's highly celebrated Colombian bands\, Superfónicos and Nemegata. Their respective band leaders and multi-instrumentalists\, Jaime Ospina and Victor-Andrés Cruz (aka “El Guámbito”)\, will take us on a journey through the varied musical traditions and regions of Colombia—from the Pacific to the Caribbean Coast\, inland to the Andes mountains\, and on to the shores of the Amazon River. Throughout the night\, live performances will be woven together with documentary shorts that illuminate the deep history of these regional traditions. The show will culminate in a true Laboratorio-style collaboration\, where our guest Colombian artists join Laboratorio band members Carrie Rodriguez\, Alex Marrero\, and David Pulkingham to blend original songs with a vibrant "Austin-meets-Colombia" spirit. Make sure to bring your dancing shoes!
LOCATION:Austin\, TX
END:VEVENT
END:VCALENDAR