BEGIN:VCALENDAR
VERSION:2.0
PRODID:-//Things To Do In Austin//Events//EN
BEGIN:VEVENT
UID:93dee02a-f6cf-4d1d-991b-b82d58b2153b@thingstodoinaustin.com
DTSTAMP:20260420T045640Z
DTSTART:20260421T050000Z
DTEND:20260422T045959Z
SUMMARY:La Dispute
DESCRIPTION:Resound Presents: La Dispute at Mohawk on 4/21 Doors/Show: 7pm/8pm All Ages
LOCATION:Austin\, TX
END:VEVENT
END:VCALENDAR