BEGIN:VCALENDAR
VERSION:2.0
PRODID:-//Things To Do In Austin//Events//EN
BEGIN:VEVENT
UID:805d5b7c-2581-4343-be4e-2489a27eb2db@thingstodoinaustin.com
DTSTAMP:20260425T162720Z
DTSTART:20260428T050000Z
DTEND:20260429T045959Z
SUMMARY:Josh Ritter - Book of Gold Thrown Open Tour
DESCRIPTION:Josh Ritter is a renowned singer\, songwriter\, musician\, artist and best-selling author. One of today’s most thoughtful and prolific voices\, he has released eleven studio albums including 2019’s widely acclaimed ‘Fever Breaks’ of which NPR Music praised\, “He remains a hydrant of ideas while embodying an endless capacity for empathy and indignation\, often within a single song.”
LOCATION:Austin\, TX
END:VEVENT
END:VCALENDAR