BEGIN:VCALENDAR
VERSION:2.0
PRODID:-//Things To Do In Austin//Events//EN
BEGIN:VEVENT
UID:d43415c9-6d00-4495-98ad-bc9afb3e5076@thingstodoinaustin.com
DTSTAMP:20260420T113132Z
DTSTART:20260422T050000Z
DTEND:20260427T045959Z
SUMMARY:Indie Meme Film Festival
DESCRIPTION:The 11th Indie Meme Film Festival returns to Austin this spring for five days of bold\, independent cinema from South Asia\, Iran\, and the diaspora. IMFF is the premier showcase in Texas for South Asian independent filmmaking. The 2026 program features an acclaimed selection of narrative features\, documentary features\, and short films\, spanning a wide range of languages\, countries\, and perspectives. Films in this year's lineup have screened at festivals including Cannes\, Venice\, Toronto\, and more. Beyond screenings\, IMFF 2026 offers filmmaker Q&As\, mixers\, and special events that bring Austin audiences face-to-face with the artists behind the films. All films are presented with English subtitles\, making the entire festival accessible to a wide and diverse audience.
LOCATION:Austin\, TX
END:VEVENT
END:VCALENDAR