BEGIN:VCALENDAR
VERSION:2.0
PRODID:-//Things To Do In Austin//Events//EN
BEGIN:VEVENT
UID:76a2cfed-b174-484a-8de9-8c2e2a5da8eb@thingstodoinaustin.com
DTSTAMP:20260420T113141Z
DTSTART:20260424T050000Z
DTEND:20260427T045959Z
SUMMARY:Georgetown’s 27th Annual Red Poppy Festival
DESCRIPTION:The “Red Poppy Capital Of Texas\,” Georgetown\, Texas\, celebrates the return of its popular Red Poppy Festival\, April 24-26\, 2026. This is the 27th year that the city has hosted the free\, two and one-half day festival to celebrate the history and beauty of its poppy season. The 2026 festival will feature live music and arts performances throughout the weekend\, handcrafted works from local artisans\, a classic car show on Saturday\, plenty of food and family-friendly activities including a Kid’s Fun Zone on Saturday\, the POPP Pup Parade on Sunday\, and more. The Red Poppy Parade on Saturday morning passes through Georgetown’s historic town square\, known as “The Most Beautiful Town Square in Texas.” WHAT: Georgetown’s 27th Annual Red Poppy Festival\; admission is free WHEN: April 24-26\, 2026 WHERE: In and around Georgetown’s historic town square
LOCATION:Georgetown\, TX
END:VEVENT
END:VCALENDAR