BEGIN:VCALENDAR
VERSION:2.0
PRODID:-//Things To Do In Austin//Events//EN
BEGIN:VEVENT
UID:2f3cf4b1-0079-42d7-abd1-c9d26815400d@thingstodoinaustin.com
DTSTAMP:20260425T142918Z
DTSTART:20260426T050000Z
DTEND:20260427T045959Z
SUMMARY:Fall In Love With Nature Day
DESCRIPTION:Join Families in Nature\, Texas Parks and Wildlife\, and our community partners for a day of outdoor fun for all ages! Enjoy activities like archery\, fishing\, birding\, forest bathing\, live music and food\, while exploring Austin’s closest state park! Registration is optional\, but encouraged. Featuring: Archery Lessons Guided Birding Walks Forest Bathing Workshop Fishing Lessons Live Music Local Food Vendors Partners: The Monarch Sanctuary Project Travis Audubon Bat Conservation International Xerces NatureTats Bug Safari University of Texas and more!
LOCATION:5808 McKinney Falls Pkwy\, Austin\, TX
END:VEVENT
END:VCALENDAR