BEGIN:VCALENDAR
VERSION:2.0
PRODID:-//Things To Do In Austin//Events//EN
BEGIN:VEVENT
UID:1ebfa3c3-03ad-4ac8-b518-115d756f4b97@thingstodoinaustin.com
DTSTAMP:20260424T162120Z
DTSTART:20260425T050000Z
DTEND:20260426T045959Z
SUMMARY:Fairways Cantina Women's Open Championship
DESCRIPTION:A day of great golf\, good company\, and relaxed competition at Morris Williams Golf Course\, co-hosted with LPGA Amateurs Austin Chapter and played in a 2-person shamble format. Play your round\, then join us two weeks later for an evening celebration filled with food\, drinks\, and awards
LOCATION:3851 Manor Rd.\, Austin\, TX
END:VEVENT
END:VCALENDAR