BEGIN:VCALENDAR
VERSION:2.0
PRODID:-//Things To Do In Austin//Events//EN
BEGIN:VEVENT
UID:8e3980b9-24fb-419e-b1ae-a60f3780c09c@thingstodoinaustin.com
DTSTAMP:20260425T144924Z
DTSTART:20260426T050000Z
DTEND:20260427T045959Z
SUMMARY:Emmer & Rye Breaking Bread Dinner Series: Lucia
DESCRIPTION:Join Emmer & Rye to “break bread” with celebrated chefs. The next guest in the series is Chef David Uygur of Lucia in Dallas\, who will be serving special\, one-night-only dishes alongside the standard dinner menu. Reservations for Emmer & Rye’s Breaking Bread Guest Chef Series are available on OpenTable from 5:30 to 10 p.m.\, with walk-ins welcome as space allows. For more information on the series and to stay updated on additional chef announcements\, please visit www.emmerandrye.com or follow along on Instagram at @emmerandrye.
LOCATION:Austin\, TX
END:VEVENT
END:VCALENDAR