BEGIN:VCALENDAR
VERSION:2.0
PRODID:-//Things To Do In Austin//Events//EN
BEGIN:VEVENT
UID:a308b3ef-973d-445a-8315-4f80a9cf190a@thingstodoinaustin.com
DTSTAMP:20260424T155512Z
DTSTART:20260425T050000Z
DTEND:20260426T045959Z
SUMMARY:Eeyore's Annual Birthday Party
DESCRIPTION:Live music\, beer\, food\, acrobats and costume contests surround this annual gathering of Austin's most eclectic locals. Eeyore's Birthday serves as fund-raiser to benefit many local\, Austin non-profits. Live music from 12:00 PM to 6:00 PM
LOCATION:1100 Kingsbury Street\, Austin\, TX
END:VEVENT
END:VCALENDAR