BEGIN:VCALENDAR
VERSION:2.0
PRODID:-//Things To Do In Austin//Events//EN
BEGIN:VEVENT
UID:55fc30e3-e30e-4deb-aed2-a023502e4751@thingstodoinaustin.com
DTSTAMP:20260424T161250Z
DTSTART:20260425T050000Z
DTEND:20260426T045959Z
SUMMARY:Earth Day Celebration
DESCRIPTION:Every day is Earth Day at Texas Science & Natural History Museum! Celebrate the planet on Saturday\, April 25 with special hands-on activities for all ages. Explore the movement of tectonic plates\, discover different rock types and the geological processes that shaped Earth\, and reimagine a more sustainable future by turning plastic waste into fabulous fashion designs (while supplies last). Activities take place from 10 a.m.&#8211\;3 p.m. and are included with museum admission. Cap off the day with a free outdoor demonstration by the UT Physics Circus at 3 p.m. on the back patio. $10 general admission\, $6 discounted admission\, age 65+ or 0-4 free
LOCATION:2400 Trinity St.\, AUSTIN\, TX
END:VEVENT
END:VCALENDAR