BEGIN:VCALENDAR
VERSION:2.0
PRODID:-//Things To Do In Austin//Events//EN
BEGIN:VEVENT
UID:b26594dd-644f-489d-bc39-d8315d9973d7@thingstodoinaustin.com
DTSTAMP:20260423T155258Z
DTSTART:20260424T050000Z
DTEND:20260425T045959Z
SUMMARY:Drink + Draw
DESCRIPTION:Drink & Draw returns! Join Contracommon artists for our monthly night of community and creativity. Bring a current project\, or use our supplies to start something new! Come take a break and get creative - no expectations\, judgements or prerequisites. This month’s Drink & Draw will be held at Contracommon on Friday April 24th from 5-8pm. Anyone at any level in any media is welcome to participate! Sign up below to let us know you’ll be joining us (walk-ins welcome too). You bring the art\, we bring the drinks! Completely free to attend\, with refreshments provided by our sponsors. Our Secret Garden exhibition will also be on view during this event - don’t miss your chance to get a sneak peek of the show before the fundraiser event on May 1st!
LOCATION:12912 Hill Country Boulevard #F-140\, Bee Cave\, TX
END:VEVENT
END:VCALENDAR