BEGIN:VCALENDAR
VERSION:2.0
PRODID:-//Things To Do In Austin//Events//EN
BEGIN:VEVENT
UID:5557fbca-517e-4859-81ea-4337c0717d03@thingstodoinaustin.com
DTSTAMP:20260420T031338Z
DTSTART:20260420T050000Z
DTEND:20260428T045959Z
SUMMARY:Dom Francis Live at C-Boys Heart & Soul
DESCRIPTION:Dom Francis doesn’t set out to just write songs—he attempts to create worlds. Rooted in folk and rock but unbound by genre\, his music drifts through shadowy dreamscapes\, desert highways\, and backwoods silence. Each track is a thread pulled from a life lived in motion—raised in the Northeast\, tempered by time in El Paso\, Missouri\, Appalachia\, and now Austin\, Texas. His debut album The Wanderer plays like a midnight postcard: analog warmth\, raw edges\, and lyrics that linger. His sophomore album “The State of Things” is out now.
LOCATION:Austin\, TX
END:VEVENT
END:VCALENDAR