BEGIN:VCALENDAR
VERSION:2.0
PRODID:-//Things To Do In Austin//Events//EN
BEGIN:VEVENT
UID:176ff5e5-0adf-495d-bd4f-70efed078c74@thingstodoinaustin.com
DTSTAMP:20260425T144733Z
DTSTART:20260426T050000Z
DTEND:20260427T045959Z
SUMMARY:Courageous Cadence: Teen-Centered Open Mic
DESCRIPTION:Youth free\, 18+ $5 minimum donation (General admission) PG-13 content Join us for a powerful open mic hosted by the Courageous Cadence Residency Cohort\, a group of emerging youth poets\, celebrating the culmination of their 2025&#8211\;2026 residency. This teen-friendly\, community-centered event uplifts youth voices through poetry and music\, with open mic slots available for both spoken word and musical performances. Join us as we mark the transition into a new season with the announcement of next year’s program. Open mic sign-up available at the door\, followed by a small reception.
LOCATION:2307 Manor Rd.\, Austin\, TX
END:VEVENT
END:VCALENDAR