BEGIN:VCALENDAR
VERSION:2.0
PRODID:-//Things To Do In Austin//Events//EN
BEGIN:VEVENT
UID:c6abd1ab-1783-4152-8a2e-4c94b59e3a5e@thingstodoinaustin.com
DTSTAMP:20260422T143111Z
DTSTART:20260423T050000Z
DTEND:20260424T045959Z
SUMMARY:Candlelight: Coldplay & Imagine Dragons
DESCRIPTION:Candlelight concerts bring the magic of a live\, multi-sensory musical experience to awe-inspiring locations like never seen before in Austin. Get your tickets now to discover the music of Coldplay & Imagine Dragons at St David's Episcopal Church under the gentle glow of candlelight. General Info Venue: St David's Episcopal Church Dates and times: select your dates/times directly in the ticket selector Duration: 60 minutes. Doors open 30 minutes before the show. No entry once it starts. Age requirement: 8 years old or older. Anyone under the age of 16 must be accompanied by an adult Accessibility: this venue is ADA compliant View the FAQs for this event here Seating is assigned on a first come first served basis in each zone If you would like to book a private concert or buy regular tickets for a large group (+30 people)\, click here Check out all the Candlelight concerts in Austin To treat your friends and family to a Candlelight gift card\, click here Tentative Program Coldplay - Clocks Imagine Dragons - Radioactive Coldplay - Adventure of a Lifetime Coldplay - Fix You Imagine Dragons - Eyes Closed Imagine Dragons - Nice to Meet You Coldplay - The Scientist Coldplay - feelslikeimfallinginlove Imagine Dragons - Follow You Imagine Dragons - Bad Liar Imagine Dragons - Believer Coldplay - Sky Full of Stars Coldplay - Viva la Vida Performers Listeso String Quartet Seating Map
LOCATION:Austin\, TX
END:VEVENT
END:VCALENDAR