BEGIN:VCALENDAR
VERSION:2.0
PRODID:-//Things To Do In Austin//Events//EN
BEGIN:VEVENT
UID:9ad75710-5070-4960-9d93-c32411b42aa1@thingstodoinaustin.com
DTSTAMP:20260422T102922Z
DTSTART:20260423T050000Z
DTEND:20260426T045959Z
SUMMARY:Austin Latinx New Play Festival
DESCRIPTION:Teatro Vivo is excited to announce the selection of four new plays written by local\, Austin-based playwrights for their 2026 Austin Latinx New Play Festival (ALNPF). Those plays include: 111 Fires and 1 Flood at the Guatemalan Natural History Museum by Khristián Méndez Aguirre Altares by Claudia Zapata Entrelazadas &#8211\; Intertwined by Alison Vasquez T-minus-15 by Diamante Martinez The 2026 ALNPF will present staged readings of each of these plays on April 23 &#8211\; 25\, 2026 at the ZACH Theatre campus. You can read more about each play below. More details about tickets and performance times will be announced soon! Follow us on Facebook and Instagram for all the updates on the 2026 ALNPF! This project is supported in part by an Elevate Grant of Austin Arts\, Culture\, Music and Entertainment.
LOCATION:Austin\, TX
END:VEVENT
END:VCALENDAR