BEGIN:VCALENDAR
VERSION:2.0
PRODID:-//Things To Do In Austin//Events//EN
BEGIN:VEVENT
UID:ad1e5fa8-b44e-4b9c-bebd-e9c88698517e@thingstodoinaustin.com
DTSTAMP:20260420T031139Z
DTSTART:20260421T050000Z
DTEND:20260701T045959Z
SUMMARY:Austin Comedy Killers
DESCRIPTION:Tuesdays • 9:00 PM Sunset Strip Comedy Club Don’t miss Austin Comedy Killers—a no-holds-barred stand-up comedy showcase happens every Tuesday\, at 9:00 PM at Sunset Strip Comedy Club in downtown Austin!
LOCATION:Austin\, TX
END:VEVENT
END:VCALENDAR