BEGIN:VCALENDAR
VERSION:2.0
PRODID:-//Things To Do In Austin//Events//EN
BEGIN:VEVENT
UID:fb3115b2-2b32-4e71-833f-97e2faf80819@thingstodoinaustin.com
DTSTAMP:20260424T141906Z
DTSTART:20260425T050000Z
DTEND:20260426T045959Z
SUMMARY:Austin Blues Fest Late Show: D.K. Harrell & Pinettes Brass Band
DESCRIPTION:Austin Blues Fest Late Show: D.K. Harrell & Pinettes Brass Band SAT · APR 25\, 2026 Doors: 9:00 pm / Show: 10:00 pm 21+
LOCATION:305 E. Fifth St.\, Austin\, TX
END:VEVENT
END:VCALENDAR