BEGIN:VCALENDAR
VERSION:2.0
PRODID:-//Things To Do In Austin//Events//EN
BEGIN:VEVENT
UID:9c4abf8a-2e24-484d-9fa1-15eae909001a@thingstodoinaustin.com
DTSTAMP:20260422T120705Z
DTSTART:20260424T050000Z
DTEND:20260425T045959Z
SUMMARY:ATX Artist Talk: Christopher Fitzgerald
DESCRIPTION:Join Austin-based artist Christopher Miñán Fitzgerald for a gallery talk on Indian Canoe (c. 1886) by Albert Bierstadt\, on view in the Art of the American West gallery. Fitzgerald offers a contemporary perspective on this iconic landscape painting\, exploring themes of representation\, storytelling\, and American identity. Through close looking and discussion\, the talk invites visitors to consider how historical works continue to shape our understanding of place and narrative. ABOUT THE SPEAKER Christopher Miñán Fitzgerald is an Austin-based artist whose work engages with themes of landscape\, memory\, and cultural identity. His practice spans painting and interdisciplinary media\, and he has exhibited widely in Texas and beyond. Through his work and public programming\, Fitzgerald brings contemporary perspectives to historical narratives in art. FREE for members! Not yet a member? Join or learn more at blantonmusem.org/membership. Get 15% off any new membership with code ARTALLYEAR15. Valid through April 22\, 2026.
LOCATION:AUSTIN\, TX
END:VEVENT
END:VCALENDAR