BEGIN:VCALENDAR
VERSION:2.0
PRODID:-//Things To Do In Austin//Events//EN
BEGIN:VEVENT
UID:6abb11fc-e839-4569-9258-3999cf5aaad6@thingstodoinaustin.com
DTSTAMP:20260425T161539Z
DTSTART:20260426T050000Z
DTEND:20260427T045959Z
SUMMARY:Asian Season ATX 2026 AAPI Month Kickoff at ABW - Sprinkle Valley
DESCRIPTION:Asian Season ATX 2026: AAPI Month Kickoff Celebrate Heritage and Creativity at Austin Beerworks - Sprinkle Valley Get ready for a celebration that blends culture\, community\, and craft. We are officially inviting you to join Asian Season ATX for our 2026 AAPI Month Kickoff. Whether you’re looking to showcase fine art in a gallery setting or serve up street food to a hungry crowd\, this is your platform. We’re taking over the expansive Austin Beerworks - Sprinkle Valley. While attendees enjoy ABW’s legendary craft brews\, they can also explore the on-site dog park\, kid’s playground\, and disc golf course\, making this a perfect destination for families and fans alike. Calling All Creators: Exhibition and Market Opportunities We are seeking exceptional talent to be the heartbeat of this year’s kickoff. This is your chance to showcase your work to a vibrant\, community-focused crowd. Visual Artists: Seeking original\, compelling works—including painting\, sculpture\, photography\, digital media\, and mixed-media installations—to be featured in our One-Day Pop-Up Gallery Exhibition. Performers: Seeking musicians\, dancers\, spoken-word artists\, and cultural groups to energize our Main Stage throughout the afternoon. Market Artisans and Makers: Original art\, handmade jewelry\, home goods\, ceramics\, apparel\, and unique goods that celebrate our diverse heritage and vision. Food Vendors: Food trucks offering AAPI-inspired cuisine and specialty bites (pre-packaged goods\, baked items\, and other sweet or savory delights). Apply at: https://asianseasonatx.org Featured Vendors: Beads and More Atx | Bamboo Flowers Studio | An Made Ceramics | Weebies Goodies | Yarn&Cherry | Queso's Quest | Bread royale | Periwinkled | Solid Soaps | N'Less Body Care | Two Sisters Kimchi | Kitsune Hirano Art | Famstones | Mooncake Collective | P’Z Candiez LLC | Spark Collection | Zoee Xiao Artworks | MomofuguCo | Stinky Baby Matcha | LottiePopClub | Ngansequitur | Tambayan Kitchen | Veeny's Art Studio | Desert Gem Snowcones | Texas Snow
LOCATION:3001 Industrial Terrace\, Austin\, TX
END:VEVENT
END:VCALENDAR