BEGIN:VCALENDAR
VERSION:2.0
PRODID:-//Things To Do In Austin//Events//EN
BEGIN:VEVENT
UID:7eff7a18-2fa2-44f8-aa33-4a3a4929ff1c@thingstodoinaustin.com
DTSTAMP:20260424T161330Z
DTSTART:20260425T050000Z
DTEND:20260517T045959Z
SUMMARY:Art Opening: Listening Wheel - Paintings by Lee Barber
DESCRIPTION:On View: April 25 - May 16 - Cloud Tree Gallery is pleased to present “Listening Wheel”\, an exhibition of new work by Lee Barber. Lee’s symbolist oil paintings hint at narrative and vibrate with color and texture in a way that is grounded and sensual. This is his third solo exhibition with the gallery. - From the artist: “Looking at art can be a form of deep listening. With ‘Listening Wheel’\, I’m presenting figures in landscapes that stand outside of a particular place and time...I want the viewer to recognize and feel things without thinking."
LOCATION:3411 East 5th Street\, Austin\, TX
END:VEVENT
END:VCALENDAR