BEGIN:VCALENDAR
VERSION:2.0
PRODID:-//Things To Do In Austin//Events//EN
BEGIN:VEVENT
UID:950464b3-db6d-4da3-a0d4-f7711560eb58@thingstodoinaustin.com
DTSTAMP:20260420T130946Z
DTSTART:20260421T050000Z
DTEND:20260531T045959Z
SUMMARY:April Showers Bring May Flowers Exhibit at Ghost Pepper Gallery
DESCRIPTION:Discover the talent that resides at Ghost Pepper Glass through its vessel-focused exhibit\, happening April 21 through May 30. April Showers Bring May Flowers showcases an array of traditional\, extravagant\, weird and unique vessels carefully designed and handblown by the talented glass artists at Ghost Pepper Glass. The exhibit will run from April 21 through May 30\, so make sure to bring your family and friends and make it a fun date filled with art\, beauty and awe. Opening Reception: April 25th\, 5-8pm Join us in person at Ghost Pepper Gallery for an evening of creativity\, music\, live glassblowing and art! Meet the artists and learn about their glassblowing techniques. You may find the perfect centerpiece for your home! These vessels will surely make a statement at your next hosting event. Light refreshments will be provided. FREE to attend. Learn more about Ghost Pepper Glass here: https://ghostpepperglass.com/ Learn more about Ghost Pepper Gallery here: https://ghostpeppergallery.com/ Follow us on instagram @ghostpeppergallery and @ghostpepperglass About Ghost Pepper Glass: Ghost Pepper Glass is a space for artists and craftspeople to dream big and work together to create that which can only be made by hand. As the only glassblowing studio of its kind in the Austin area\, we seek to create an environment that caters to both the most skilled glass artisan while inviting the most novice enthusiast. Working alongside talented professional glassblowers we are able to teach classes and create our own pieces for sale to the public. With the opening of our new space\, we welcome other local artists to dream big with us and showcase their own work at our gallery space.
LOCATION:Austin\, TX
END:VEVENT
END:VCALENDAR