BEGIN:VCALENDAR
VERSION:2.0
PRODID:-//Things To Do In Austin//Events//EN
BEGIN:VEVENT
UID:ed40f30e-f126-45ca-b786-d529f7ffe4a2@thingstodoinaustin.com
DTSTAMP:20260425T161748Z
DTSTART:20260429T050000Z
DTEND:20260501T045959Z
SUMMARY:An Evening with David Sedaris
DESCRIPTION:Join us for an evening with bestselling author and humorist\, David Sedaris!
LOCATION:Austin\, TX
END:VEVENT
END:VCALENDAR