BEGIN:VCALENDAR
VERSION:2.0
PRODID:-//Things To Do In Austin//Events//EN
BEGIN:VEVENT
UID:6ff991e7-469e-4a39-ad6f-e0bfd02de5a0@thingstodoinaustin.com
DTSTAMP:20260420T044634Z
DTSTART:20260421T050000Z
DTEND:20260422T045959Z
SUMMARY:Alice Phoebe Lou w/ John Andrews
DESCRIPTION:Resound + Paramount Theatre Present: Alice Phoebe Lou w/ John Andrews at Paramount Theatre on 4/21 Doors/Show: 7:00pm/8:00pm All Ages
LOCATION:Austin\, TX
END:VEVENT
END:VCALENDAR