BEGIN:VCALENDAR
VERSION:2.0
PRODID:-//Things To Do In Austin//Events//EN
BEGIN:VEVENT
UID:f3246519-6a46-4e27-93b3-364c1516043c@thingstodoinaustin.com
DTSTAMP:20260421T134356Z
DTSTART:20260423T050000Z
DTEND:20260424T045959Z
SUMMARY:ADULT.
DESCRIPTION:Resound Presents: ADULT. at 29th St Ballroom on 4/23 Doors: 7:00PM | Show: 8:00PM All Ages
LOCATION:Austin\, TX
END:VEVENT
END:VCALENDAR