BEGIN:VCALENDAR
VERSION:2.0
PRODID:-//Things To Do In Austin//Events//EN
BEGIN:VEVENT
UID:6ef35340-0b53-4cfa-b71d-adeff35d7e8c@thingstodoinaustin.com
DTSTAMP:20260420T113147Z
DTSTART:20260422T050000Z
DTEND:20260423T045959Z
SUMMARY:29th Annual Inside Out Steelband Festival featuring the music of Emily Lemmerman
DESCRIPTION:Join us for the 29th Annual Inside Out Steelband Festival\, featuring the music of internationally known composer and steel pan tuner Emily Lemmerman. The Inside Out Community Steelband and McCallum HS Knights of Steel will join forces as a combined steel band for this special show. Free and family friendly.
LOCATION:Austin\, TX
END:VEVENT
END:VCALENDAR